
   BEGIN:VCALENDAR
VERSION:2.0
PRODID:-//Bluestone Vineyard - ECPv6.15.20//NONSGML v1.0//EN
CALSCALE:GREGORIAN
METHOD:PUBLISH
X-WR-CALNAME:Bluestone Vineyard
X-ORIGINAL-URL:https://bluestonevineyard.com
X-WR-CALDESC:Events for Bluestone Vineyard
REFRESH-INTERVAL;VALUE=DURATION:PT1H
X-Robots-Tag:noindex
X-PUBLISHED-TTL:PT1H
BEGIN:VTIMEZONE
TZID:America/New_York
BEGIN:DAYLIGHT
TZOFFSETFROM:-0500
TZOFFSETTO:-0400
TZNAME:EDT
DTSTART:20250309T070000
END:DAYLIGHT
BEGIN:STANDARD
TZOFFSETFROM:-0400
TZOFFSETTO:-0500
TZNAME:EST
DTSTART:20251102T060000
END:STANDARD
BEGIN:DAYLIGHT
TZOFFSETFROM:-0500
TZOFFSETTO:-0400
TZNAME:EDT
DTSTART:20260308T070000
END:DAYLIGHT
BEGIN:STANDARD
TZOFFSETFROM:-0400
TZOFFSETTO:-0500
TZNAME:EST
DTSTART:20261101T060000
END:STANDARD
BEGIN:DAYLIGHT
TZOFFSETFROM:-0500
TZOFFSETTO:-0400
TZNAME:EDT
DTSTART:20270314T070000
END:DAYLIGHT
BEGIN:STANDARD
TZOFFSETFROM:-0400
TZOFFSETTO:-0500
TZNAME:EST
DTSTART:20271107T060000
END:STANDARD
END:VTIMEZONE
BEGIN:VEVENT
DTSTART;TZID=America/New_York:20260404T150000
DTEND;TZID=America/New_York:20260404T170000
DTSTAMP:20260422T054844
CREATED:20260329T023857Z
LAST-MODIFIED:20260329T023901Z
UID:6343-1775314800-1775322000@bluestonevineyard.com
SUMMARY:Haley Still Music
DESCRIPTION:Live music in the Tasting Room! Sip your favorite Bluestone wines and soak in the sounds for a perfect afternoon. Haley Still is a local musician and elementary school teacher. She has been around music and playing music almost all of her life. She especially loves how music brings joy to people in the good times and the bad. Haley gets her inspiration from musicians like Fleetwood Mac\, Taylor Swift\, and Sheryl Crow. If you come to see her play\, you can expect some classics from the 70s to 90s\, as well as some recent country.
URL:https://bluestonevineyard.com/event/haley-still-music-3-2/
LOCATION:Tasting Room\, 4828 Spring Creek Rd\, Bridgewater\, VA\, 22812
ATTACH;FMTTYPE=image/png:https://bluestonevineyard.com/wp-content/uploads/2025/09/Haley-Still-Music_4x6.png
END:VEVENT
BEGIN:VEVENT
DTSTART;TZID=America/New_York:20260404T183000
DTEND;TZID=America/New_York:20260404T213000
DTSTAMP:20260422T054844
CREATED:20260314T023655Z
LAST-MODIFIED:20260314T023744Z
UID:6300-1775327400-1775338200@bluestonevineyard.com
SUMMARY:Shag Workshop with Harrisonburg Swing
DESCRIPTION:Step onto the dance floor at Bluestone Vineyard for a lively evening of swing dancing with Harrisonburg Swing on Friday\, April 4! Start the night with a beginner-friendly swing lesson from 6:30–7:30 p.m.\, perfect for anyone who wants to learn the basics or brush up on their moves. Then from 7:30–9:30 p.m.\, the dance floor opens for a social swing dance featuring live music by the Queen City Porch Swingers\, bringing high-energy rhythms that will keep you moving all night. Whether you’re an experienced dancer or trying swing for the first time\, grab a partner (or make new friends) and enjoy a fun night of music\, movement\, and wine at Bluestone. Food and drinks will be available forpurchase.
URL:https://bluestonevineyard.com/event/shag-workshop-with-harrisonburg-swing/
LOCATION:The Meeting House Banquet Hall\, 4828 Spring Creek Rd\, Bridgewater\, Virginia\, 22812
ATTACH;FMTTYPE=image/png:https://bluestonevineyard.com/wp-content/uploads/2026/03/Shag-Dance-Workshop-at-Bluestone.png
END:VEVENT
END:VCALENDAR