
   BEGIN:VCALENDAR
VERSION:2.0
PRODID:-//Bluestone Vineyard - ECPv6.15.20//NONSGML v1.0//EN
CALSCALE:GREGORIAN
METHOD:PUBLISH
X-ORIGINAL-URL:https://bluestonevineyard.com
X-WR-CALDESC:Events for Bluestone Vineyard
REFRESH-INTERVAL;VALUE=DURATION:PT1H
X-Robots-Tag:noindex
X-PUBLISHED-TTL:PT1H
BEGIN:VTIMEZONE
TZID:America/New_York
BEGIN:DAYLIGHT
TZOFFSETFROM:-0500
TZOFFSETTO:-0400
TZNAME:EDT
DTSTART:20250309T070000
END:DAYLIGHT
BEGIN:STANDARD
TZOFFSETFROM:-0400
TZOFFSETTO:-0500
TZNAME:EST
DTSTART:20251102T060000
END:STANDARD
BEGIN:DAYLIGHT
TZOFFSETFROM:-0500
TZOFFSETTO:-0400
TZNAME:EDT
DTSTART:20260308T070000
END:DAYLIGHT
BEGIN:STANDARD
TZOFFSETFROM:-0400
TZOFFSETTO:-0500
TZNAME:EST
DTSTART:20261101T060000
END:STANDARD
BEGIN:DAYLIGHT
TZOFFSETFROM:-0500
TZOFFSETTO:-0400
TZNAME:EDT
DTSTART:20270314T070000
END:DAYLIGHT
BEGIN:STANDARD
TZOFFSETFROM:-0400
TZOFFSETTO:-0500
TZNAME:EST
DTSTART:20271107T060000
END:STANDARD
END:VTIMEZONE
BEGIN:VEVENT
DTSTART;TZID=America/New_York:20260417T183000
DTEND;TZID=America/New_York:20260417T203000
DTSTAMP:20260423T054055
CREATED:20260329T024622Z
LAST-MODIFIED:20260329T024626Z
UID:6349-1776450600-1776457800@bluestonevineyard.com
SUMMARY:Trivia Night
DESCRIPTION:Bluestone Vineyard’s Trivia Night is an exciting event where teams compete in a fun trivia challenge. Guests can enjoy an evening of friendly competition\, delicious wines\, and the chance to win a Bluestone prize. It’s a perfect opportunity for friends and family to gather\, relax\, and test their knowledge on various topics. \n\n\n\nTrivia is the 3rd Friday of every month!
URL:https://bluestonevineyard.com/event/trivia-night-april-17/
LOCATION:Tasting Room\, 4828 Spring Creek Rd\, Bridgewater\, VA\, 22812
CATEGORIES:Games,Trivia Night
ATTACH;FMTTYPE=image/jpeg:https://bluestonevineyard.com/wp-content/uploads/2024/12/Bluestone-Trivia-For-Web-1033.jpg
END:VEVENT
BEGIN:VEVENT
DTSTART;TZID=America/New_York:20260419T150000
DTEND;TZID=America/New_York:20260419T170000
DTSTAMP:20260423T054055
CREATED:20260329T024431Z
LAST-MODIFIED:20260329T024434Z
UID:6347-1776610800-1776618000@bluestonevineyard.com
SUMMARY:Tim and Mandy Leeth Music
DESCRIPTION:Join us at Bluestone Vineyard for an afternoon of live music with Tim and Mandy Leeth of Leeth Siron Ludholtz (LSL). This talented acoustic duo delivers a warm\, engaging mix of soulful original songs and fun\, sing-along cover tunes. Their set spans a variety of genres\, including classic country favorites\, 80’s pop and rock\, and more—perfectly paired with great wine and a relaxed vineyard atmosphere. Come sip\, unwind\, and enjoy live music you’ll love.
URL:https://bluestonevineyard.com/event/tim-and-mandy-leeth-music-2-2/
LOCATION:Tasting Room\, 4828 Spring Creek Rd\, Bridgewater\, VA\, 22812
ATTACH;FMTTYPE=image/jpeg:https://bluestonevineyard.com/wp-content/uploads/2026/01/Tim-and-Mandy-Leeth_4x6.jpg
END:VEVENT
BEGIN:VEVENT
DTSTART;TZID=America/New_York:20260424T183000
DTEND;TZID=America/New_York:20260424T203000
DTSTAMP:20260423T054055
CREATED:20260329T024754Z
LAST-MODIFIED:20260329T024759Z
UID:6351-1777055400-1777062600@bluestonevineyard.com
SUMMARY:Music Bingo
DESCRIPTION:Get ready for a night of fun and music at Bluestone Vineyard! Join us for Music Bingo\, where we swap numbers for your favorite songs. Mark off the songs on your bingo card as you enjoy our award-winning wines and the chance to win a Bluestone prize.
URL:https://bluestonevineyard.com/event/music-bingo-april-24/
LOCATION:Tasting Room\, 4828 Spring Creek Rd\, Bridgewater\, VA\, 22812
CATEGORIES:Games,Music Bingo
ATTACH;FMTTYPE=image/jpeg:https://bluestonevineyard.com/wp-content/uploads/2024/12/Music-Bingo-For-Web-1085.jpg
END:VEVENT
BEGIN:VEVENT
DTSTART;TZID=America/New_York:20260426T150000
DTEND;TZID=America/New_York:20260426T170000
DTSTAMP:20260423T054055
CREATED:20260329T025035Z
LAST-MODIFIED:20260329T025038Z
UID:6353-1777215600-1777222800@bluestonevineyard.com
SUMMARY:Matt Palmieri Music
DESCRIPTION:Join us for an afternoon of great wine and live music with local musician Matt Palmieri. Matt brings a performance full of country classics\, feel-good singalongs\, and a touch of rock\, folk\, and original tunes. His set features songs from artists like Waylon Jennings\, Johnny Cash\, John Denver\, Zac Bryan\, Tyler Childers\, and more\, which are perfect for sipping wine and singing along. \n\n\n\nWhether you’re here to relax with a glass of your favorite Bluestone wine or to tap your foot to the music\, Matt’s authentic style and crowd connection make for a lovely afternoon at the vineyard.
URL:https://bluestonevineyard.com/event/matt-palmieri-music-april-26/
LOCATION:Tasting Room\, 4828 Spring Creek Rd\, Bridgewater\, VA\, 22812
CATEGORIES:Featured Events
ATTACH;FMTTYPE=image/jpeg:https://bluestonevineyard.com/wp-content/uploads/2025/11/Matt-Palmieri-Music.jpg
END:VEVENT
BEGIN:VEVENT
DTSTART;TZID=America/New_York:20260508T183000
DTEND;TZID=America/New_York:20260508T213000
DTSTAMP:20260423T054055
CREATED:20250420T210513Z
LAST-MODIFIED:20260421T014432Z
UID:4748-1778265000-1778275800@bluestonevineyard.com
SUMMARY:Toast the Weekend: Big City Band
DESCRIPTION:Big City Band kicks off the 2026 Toast the Weekend series with a bang! A local favorite band plays country\, rock\, and southern rock. Their unique sound features gritty lead vocals fused with the smooth sound of family harmonies. A Big City Band show features an up-tempo mix from all genres of music along with original tunes that will make you dance the night away.
URL:https://bluestonevineyard.com/event/toast-the-weekend-big-city-band/
LOCATION:The Meadow\, 4828 Spring Creek Rd\, Bridgewater\, Virginia\, 22812
CATEGORIES:Toast The Weekend Concert Series
ATTACH;FMTTYPE=image/jpeg:https://bluestonevineyard.com/wp-content/uploads/2026/04/BCB-1.jpg
END:VEVENT
BEGIN:VEVENT
DTSTART;TZID=America/New_York:20260509T183000
DTEND;TZID=America/New_York:20260509T203000
DTSTAMP:20260423T054055
CREATED:20260421T025835Z
LAST-MODIFIED:20260421T025838Z
UID:6714-1778351400-1778358600@bluestonevineyard.com
SUMMARY:Music Bingo
DESCRIPTION:Get ready for a night of fun and music at Bluestone Vineyard! Join us for Music Bingo\, where we swap numbers for your favorite songs. Mark off the songs on your bingo card as you enjoy our award-winning wines and the chance to win a Bluestone prize.
URL:https://bluestonevineyard.com/event/music-bingo-may-9/
LOCATION:Tasting Room\, 4828 Spring Creek Rd\, Bridgewater\, VA\, 22812
CATEGORIES:Games,Music Bingo
ATTACH;FMTTYPE=image/jpeg:https://bluestonevineyard.com/wp-content/uploads/2024/12/Music-Bingo-For-Web-1014-1.jpg
END:VEVENT
BEGIN:VEVENT
DTSTART;TZID=America/New_York:20260515T183000
DTEND;TZID=America/New_York:20260515T203000
DTSTAMP:20260423T054055
CREATED:20260421T025640Z
LAST-MODIFIED:20260421T025643Z
UID:6712-1778869800-1778877000@bluestonevineyard.com
SUMMARY:Trivia Night
DESCRIPTION:Bluestone Vineyard’s Trivia Night is an exciting event where teams compete in a fun trivia challenge. Guests can enjoy an evening of friendly competition\, delicious wines\, and the chance to win a Bluestone prize. It’s a perfect opportunity for friends and family to gather\, relax\, and test their knowledge on various topics. \n\n\n\nTrivia is the 3rd Friday of every month!
URL:https://bluestonevineyard.com/event/trivia-night-may-15/
LOCATION:Tasting Room\, 4828 Spring Creek Rd\, Bridgewater\, VA\, 22812
CATEGORIES:Games,Trivia Night
ATTACH;FMTTYPE=image/jpeg:https://bluestonevineyard.com/wp-content/uploads/2025/03/Bluestone-Trivia-For-Web-1049.jpg
END:VEVENT
BEGIN:VEVENT
DTSTART;TZID=America/New_York:20260522T183000
DTEND;TZID=America/New_York:20260522T213000
DTSTAMP:20260423T054055
CREATED:20250421T014644Z
LAST-MODIFIED:20260421T014733Z
UID:4765-1779474600-1779485400@bluestonevineyard.com
SUMMARY:Toast the Weekend: Standing Room Only
DESCRIPTION:Standing Room Only\, Toast the Weekend regulars\, are one of the valley’s best “classic rock” dance bands. A one-two punch of powerful female vocalists\, Kelly May and Crystal\, are surrounded by a group of talented musicians on the guitar\, drums\, and bass. Get ready to hear Standing Room Only perform classic rock\, soul\, R&B\, and some country!
URL:https://bluestonevineyard.com/event/toast-the-weekend-standing-room-only/
LOCATION:The Meadow\, 4828 Spring Creek Rd\, Bridgewater\, Virginia\, 22812
CATEGORIES:Toast The Weekend Concert Series
ATTACH;FMTTYPE=image/jpeg:https://bluestonevineyard.com/wp-content/uploads/2026/04/TTW-SRO-9-26_2.jpg
END:VEVENT
BEGIN:VEVENT
DTSTART;TZID=America/New_York:20260523T183000
DTEND;TZID=America/New_York:20260523T203000
DTSTAMP:20260423T054055
CREATED:20260421T030039Z
LAST-MODIFIED:20260421T030042Z
UID:6716-1779561000-1779568200@bluestonevineyard.com
SUMMARY:Music Bingo
DESCRIPTION:Get ready for a night of fun and music at Bluestone Vineyard! Join us for Music Bingo\, where we swap numbers for your favorite songs. Mark off the songs on your bingo card as you enjoy our award-winning wines and the chance to win a Bluestone prize.
URL:https://bluestonevineyard.com/event/music-bingo-may-23/
LOCATION:Tasting Room\, 4828 Spring Creek Rd\, Bridgewater\, VA\, 22812
CATEGORIES:Games,Music Bingo
ATTACH;FMTTYPE=image/jpeg:https://bluestonevineyard.com/wp-content/uploads/2025/07/4.jpg
END:VEVENT
BEGIN:VEVENT
DTSTART;TZID=America/New_York:20260529T183000
DTEND;TZID=America/New_York:20260529T203000
DTSTAMP:20260423T054055
CREATED:20260421T030326Z
LAST-MODIFIED:20260421T030330Z
UID:6718-1780079400-1780086600@bluestonevineyard.com
SUMMARY:Music Bingo
DESCRIPTION:Get ready for a night of fun and music at Bluestone Vineyard! Join us for Music Bingo\, where we swap numbers for your favorite songs. Mark off the songs on your bingo card as you enjoy our award-winning wines and the chance to win a Bluestone prize.
URL:https://bluestonevineyard.com/event/music-bingo-may-29/
LOCATION:Tasting Room\, 4828 Spring Creek Rd\, Bridgewater\, VA\, 22812
CATEGORIES:Games,Music Bingo
ATTACH;FMTTYPE=image/jpeg:https://bluestonevineyard.com/wp-content/uploads/2025/07/2.jpg
END:VEVENT
BEGIN:VEVENT
DTSTART;TZID=America/New_York:20260612T183000
DTEND;TZID=America/New_York:20260612T213000
DTSTAMP:20260423T054055
CREATED:20260421T020817Z
LAST-MODIFIED:20260421T021508Z
UID:6692-1781289000-1781299800@bluestonevineyard.com
SUMMARY:Toast the Weekend: Out of Spite
DESCRIPTION:Get ready for a high-energy night at Toast the Weekend with Out of Spite! Based in Lynchburg\, Out of Spite brings an engaging\, crowd-pleasing performance packed with a dynamic mix of country\, hip hop\, pop\, dance\, and rock favorites. From the first song to the last encore\, they know how to keep the energy up and the dance floor full. \n\n\n\nGrab your friends\, a glass of Bluestone wine\, and get ready for a night that will have you on your feet from start to finish. You won’t want to miss welcoming Out of Spite to the Toast the Weekend stage!
URL:https://bluestonevineyard.com/event/toast-the-weekend-oos/
LOCATION:The Meadow\, 4828 Spring Creek Rd\, Bridgewater\, Virginia\, 22812
CATEGORIES:Toast The Weekend Concert Series
ATTACH;FMTTYPE=image/jpeg:https://bluestonevineyard.com/wp-content/uploads/2026/04/Out-of-Spite-Cover.jpeg
END:VEVENT
BEGIN:VEVENT
DTSTART;TZID=America/New_York:20260626T183000
DTEND;TZID=America/New_York:20260626T213000
DTSTAMP:20260423T054055
CREATED:20260421T021358Z
LAST-MODIFIED:20260421T021937Z
UID:6695-1782498600-1782509400@bluestonevineyard.com
SUMMARY:Toast the Weekend: Little Walter and the Convictions
DESCRIPTION:Give a round of applause to Little Walter and Convictions and welcome them back to the Toast the Weekend stage. From the Animals and the Beatles to the Yardbirds and the Zombies\, the music of the 60’s represents\, for many music fans\, the zenith of live rock’n’roll\, with its infectious garage-band beat and mod melodies.
URL:https://bluestonevineyard.com/event/toast-the-weekend-little-walter-the-convictions/
LOCATION:The Meadow\, 4828 Spring Creek Rd\, Bridgewater\, Virginia\, 22812
CATEGORIES:Toast The Weekend Concert Series
ATTACH;FMTTYPE=image/jpeg:https://bluestonevineyard.com/wp-content/uploads/2026/04/Toast-the-weekend-Website-Events.jpg
END:VEVENT
BEGIN:VEVENT
DTSTART;TZID=America/New_York:20260710T183000
DTEND;TZID=America/New_York:20260710T213000
DTSTAMP:20260423T054055
CREATED:20250421T032910Z
LAST-MODIFIED:20260421T022221Z
UID:4784-1783708200-1783719000@bluestonevineyard.com
SUMMARY:Toast the Weekend: The Roadducks
DESCRIPTION:The Roadducks are the quintessential rock and roll party band. They bring non-stop energy to every show – every song – and always have the entire crowd on their feet. It’s never going to be a dull night when the Ducks are playing! They do play a variety of styles\, but they are best known as a classic/southern rock act.
URL:https://bluestonevineyard.com/event/toast-the-weekend-the-roadducks/
LOCATION:The Meadow\, 4828 Spring Creek Rd\, Bridgewater\, Virginia\, 22812
CATEGORIES:Toast The Weekend Concert Series
ATTACH;FMTTYPE=image/jpeg:https://bluestonevineyard.com/wp-content/uploads/2026/04/newerdux-inpixio.jpg
END:VEVENT
BEGIN:VEVENT
DTSTART;TZID=America/New_York:20260724T183000
DTEND;TZID=America/New_York:20260724T213000
DTSTAMP:20260423T054055
CREATED:20250421T033409Z
LAST-MODIFIED:20260421T023125Z
UID:4788-1784917800-1784928600@bluestonevineyard.com
SUMMARY:Toast the Weekend: The Rewind Experience
DESCRIPTION:Longing for the days of old? The band\, ‘Rewind’ features an exciting collection of new and classic funk\, 80’s rock and everything in between. ‘Rewind’ loves to party and guarantees you’ll be up and moving from the first note of the guitar to the last crash of the cymbal. We look forward to seeing at Toast the Weekend real soon but ‘til then… Be kind. Rewind.
URL:https://bluestonevineyard.com/event/toast-the-weekend-rewind/
LOCATION:The Meadow\, 4828 Spring Creek Rd\, Bridgewater\, Virginia\, 22812
CATEGORIES:Toast The Weekend Concert Series
ATTACH;FMTTYPE=image/jpeg:https://bluestonevineyard.com/wp-content/uploads/2026/04/The-Rewind-Experience-1.jpeg
END:VEVENT
BEGIN:VEVENT
DTSTART;TZID=America/New_York:20260814T183000
DTEND;TZID=America/New_York:20260814T213000
DTSTAMP:20260423T054055
CREATED:20260421T023512Z
LAST-MODIFIED:20260421T023514Z
UID:6703-1786732200-1786743000@bluestonevineyard.com
SUMMARY:Toast the Weekend: Cake Fight
DESCRIPTION:Get ready to have your cake and dance too at Toast the Weekend with Cake Fight! This lively\, high-energy band knows how to bring the party\, serving up a crowd-pleasing mix of modern pop\, classic rock\, and everything in between. From Dua Lipa to Devo to The Doors\, their setlist has something for everyone—so whether you’re singing along or heading straight for the dance floor\, you’ll be in for a sweet time. Grab your friends\, pour a glass\, and get ready for a night that takes the cake.
URL:https://bluestonevineyard.com/event/toast-the-weekend-cake-fight/
LOCATION:The Meadow\, 4828 Spring Creek Rd\, Bridgewater\, Virginia\, 22812
CATEGORIES:Toast The Weekend Concert Series
ATTACH;FMTTYPE=image/jpeg:https://bluestonevineyard.com/wp-content/uploads/2026/04/Cake-Fight_Cover-Photo.jpg
END:VEVENT
BEGIN:VEVENT
DTSTART;TZID=America/New_York:20260828T183000
DTEND;TZID=America/New_York:20260828T213000
DTSTAMP:20260423T054055
CREATED:20260421T023858Z
LAST-MODIFIED:20260421T024016Z
UID:6705-1787941800-1787952600@bluestonevineyard.com
SUMMARY:Toast the Weekend: That 80's Show
DESCRIPTION:Get ready to step into a night of pure 80s nostalgia at Toast the Weekend with That 80’s Show! Delivering a high-energy tribute to the best of 80s dance\, pop\, and rock\, this band brings the decade to life with iconic hits\, electric performances\, and nonstop throwback fun. From the first note\, you’ll be surrounded by neon vibes\, big hair energy\, and the kind of anthems that keep the dance floor moving. \n\n\n\nBreak out your boldest 80s flair\, grab a glass of Bluestone wine\, and get ready to sing\, dance\, and relive the decade in the most totally rad way.
URL:https://bluestonevineyard.com/event/toast-the-weekend-80s-show/
LOCATION:The Meadow\, 4828 Spring Creek Rd\, Bridgewater\, Virginia\, 22812
CATEGORIES:Toast The Weekend Concert Series
ATTACH;FMTTYPE=image/jpeg:https://bluestonevineyard.com/wp-content/uploads/2026/04/That-80s-Show-Cover.jpeg
END:VEVENT
BEGIN:VEVENT
DTSTART;TZID=America/New_York:20260911T183000
DTEND;TZID=America/New_York:20260911T213000
DTSTAMP:20260423T054055
CREATED:20260421T024457Z
LAST-MODIFIED:20260421T024500Z
UID:6708-1789151400-1789162200@bluestonevineyard.com
SUMMARY:Toast the Weekend: Big City Band
DESCRIPTION:We welcome Big City Band back for another appearance on the Toast the Weekend stage. A 6-piece rockin’ country band from Grottoes\, Virginia is ready to rock all night long (well until 9:30 p.m.). Big City Band faithful\, ‘BCB Strangers’ are ready to pack the dance floor to listen to their favorite premiere party band in Virginia.
URL:https://bluestonevineyard.com/event/toast-the-weekend-big-city-band-sept-11/
LOCATION:The Meadow\, 4828 Spring Creek Rd\, Bridgewater\, Virginia\, 22812
CATEGORIES:Toast The Weekend Concert Series
ATTACH;FMTTYPE=image/jpeg:https://bluestonevineyard.com/wp-content/uploads/2026/04/TTW-BCB-5-9_1.jpg
END:VEVENT
BEGIN:VEVENT
DTSTART;TZID=America/New_York:20260925T183000
DTEND;TZID=America/New_York:20260925T213000
DTSTAMP:20260423T054055
CREATED:20260421T024907Z
LAST-MODIFIED:20260421T024911Z
UID:6710-1790361000-1790371800@bluestonevineyard.com
SUMMARY:Toast the Weekend: Standing Room Only
DESCRIPTION:Close out the Toast the Weekend 2026 season in style with Standing Room Only. As the final night of the summer series\, this is your last chance to soak in the Meadow\, raise a glass\, and celebrate a season full of music\, memories\, and Shenandoah Valley sunsets. With their crowd-favorite classic rock sound and feel-good energy\, Standing Room Only sets the perfect tone for one more night on the dance floor. Make the last one count!
URL:https://bluestonevineyard.com/event/toast-the-weekend-standing-room-only-sept-25/
LOCATION:The Meadow\, 4828 Spring Creek Rd\, Bridgewater\, Virginia\, 22812
CATEGORIES:Toast The Weekend Concert Series
ATTACH;FMTTYPE=image/jpeg:https://bluestonevineyard.com/wp-content/uploads/2026/04/SRO_7-12_15.jpg
END:VEVENT
END:VCALENDAR